BEGIN:VCALENDAR
VERSION:2.0
PRODID:-//Coonawarra Vignerons - ECPv6.15.18//NONSGML v1.0//EN
CALSCALE:GREGORIAN
METHOD:PUBLISH
X-ORIGINAL-URL:https://coonawarra.org
X-WR-CALDESC:Events for Coonawarra Vignerons
REFRESH-INTERVAL;VALUE=DURATION:PT1H
X-Robots-Tag:noindex
X-PUBLISHED-TTL:PT1H
BEGIN:VTIMEZONE
TZID:Australia/Adelaide
BEGIN:STANDARD
TZOFFSETFROM:+1030
TZOFFSETTO:+0930
TZNAME:ACST
DTSTART:20220402T163000
END:STANDARD
BEGIN:DAYLIGHT
TZOFFSETFROM:+0930
TZOFFSETTO:+1030
TZNAME:ACDT
DTSTART:20221001T163000
END:DAYLIGHT
BEGIN:STANDARD
TZOFFSETFROM:+1030
TZOFFSETTO:+0930
TZNAME:ACST
DTSTART:20230401T163000
END:STANDARD
BEGIN:DAYLIGHT
TZOFFSETFROM:+0930
TZOFFSETTO:+1030
TZNAME:ACDT
DTSTART:20230930T163000
END:DAYLIGHT
BEGIN:STANDARD
TZOFFSETFROM:+1030
TZOFFSETTO:+0930
TZNAME:ACST
DTSTART:20240406T163000
END:STANDARD
BEGIN:DAYLIGHT
TZOFFSETFROM:+0930
TZOFFSETTO:+1030
TZNAME:ACDT
DTSTART:20241005T163000
END:DAYLIGHT
END:VTIMEZONE
BEGIN:VEVENT
DTSTART;TZID=Australia/Adelaide:20230929T170000
DTEND;TZID=Australia/Adelaide:20230929T210000
DTSTAMP:20260420T074141
CREATED:20230720T130743Z
LAST-MODIFIED:20230927T055153Z
UID:10012429-1696006800-1696021200@coonawarra.org
SUMMARY:Koonara Wines | Decadence Lounge - Spring Edition
DESCRIPTION:Koonara Wines are converting their cellar door into a wine bar for a fun night of wine\, music\, grazing platters by Pichnic and good company. \nIt’s sure to be a relaxing night for Friday knock-off drinks so be sure not to miss out. The Decadence Lounge is here for a good time\, not a long time. \nSee you all there! \nDATE | Friday 29th September 2023 \nTIME | 5pm – 9pm \nCOST | Free Entry \nBOOKINGS | Order your platter in advance at www.koonara.com
URL:https://coonawarra.org/event/koonara-decadence-lounge-2023/
LOCATION:Koonara Wines\, 44 Church Street\, Penola\, SA\, 5277\, Australia
CATEGORIES:Community Event,Music,Wine Tasting
ATTACH;FMTTYPE=image/jpeg:https://coonawarra.org/wp-content/uploads/2023/04/Untitled-1600-×-1200px-4.jpg
ORGANIZER;CN="Koonara Wines":MAILTO:winery@koonara.com
GEO:-37.3787613;140.8367005
X-APPLE-STRUCTURED-LOCATION;VALUE=URI;X-ADDRESS=Koonara Wines 44 Church Street Penola SA 5277 Australia;X-APPLE-RADIUS=500;X-TITLE=44 Church Street:geo:140.8367005,-37.3787613
END:VEVENT
BEGIN:VEVENT
DTSTART;VALUE=DATE:20230930
DTEND;VALUE=DATE:20231101
DTSTAMP:20260420T074141
CREATED:20230802T040518Z
LAST-MODIFIED:20230915T054414Z
UID:10005512-1696032000-1698796799@coonawarra.org
SUMMARY:Balnaves of Coonawarra | A 10 Year Old Treat
DESCRIPTION:For the month of October\, you will be treated with the opportunity to taste and/or purchase a 10 year old Cabernet Merlot. \n2013 was an exceptional Vintage and we’d like to celebrate the month with our 2013 Cabernet Merlot. \nAvailable to taste and purchase for the entire month\, relax on the deck while you taste our wines\, or enjoy a glass of your favourite Balnaves wine on the lawn with a Cheese Picnic box. \nALL OCTOBER \nTIMES: Monday – Friday 9.00am – 4.30pm\nSaturday – Sunday 11.30am – 4.30pm \nCOST | Wines by the glass $5 – $10\nCheese picnic boxes $40\nKids snack bags $5 \nBOOKINGS |  Recommended Book Now \nLOCATION | Balnaves of Coonawarra Wine Room \nCONTACT | Balnaves Wine Room on 08 8737 2946 or cellar@balnaves.com.au \n 
URL:https://coonawarra.org/event/balnaves-10-year-old-treat-oct/
LOCATION:Balnaves of Coonawarra\, 15517 Riddoch Hwy  SA 5277\, Australia\, Coonawarra\, SA\, 5263\, Australia
CATEGORIES:Wine Tasting
ATTACH;FMTTYPE=image/jpeg:https://coonawarra.org/wp-content/uploads/2023/08/10-year-treat.jpg
ORGANIZER;CN="Balnaves of Coonawarra":MAILTO:cellar@balnaves.com.au
GEO:-37.2943906;140.8391888
X-APPLE-STRUCTURED-LOCATION;VALUE=URI;X-ADDRESS=Balnaves of Coonawarra 15517 Riddoch Hwy  SA 5277 Australia Coonawarra SA 5263 Australia;X-APPLE-RADIUS=500;X-TITLE=15517 Riddoch Hwy  SA 5277\, Australia:geo:140.8391888,-37.2943906
END:VEVENT
END:VCALENDAR