BEGIN:VCALENDAR
VERSION:2.0
PRODID:-//Coonawarra Vignerons - ECPv6.15.18//NONSGML v1.0//EN
CALSCALE:GREGORIAN
METHOD:PUBLISH
X-ORIGINAL-URL:https://coonawarra.org
X-WR-CALDESC:Events for Coonawarra Vignerons
REFRESH-INTERVAL;VALUE=DURATION:PT1H
X-Robots-Tag:noindex
X-PUBLISHED-TTL:PT1H
BEGIN:VTIMEZONE
TZID:Australia/Adelaide
BEGIN:STANDARD
TZOFFSETFROM:+1030
TZOFFSETTO:+0930
TZNAME:ACST
DTSTART:20230401T163000
END:STANDARD
BEGIN:DAYLIGHT
TZOFFSETFROM:+0930
TZOFFSETTO:+1030
TZNAME:ACDT
DTSTART:20230930T163000
END:DAYLIGHT
BEGIN:STANDARD
TZOFFSETFROM:+1030
TZOFFSETTO:+0930
TZNAME:ACST
DTSTART:20240406T163000
END:STANDARD
BEGIN:DAYLIGHT
TZOFFSETFROM:+0930
TZOFFSETTO:+1030
TZNAME:ACDT
DTSTART:20241005T163000
END:DAYLIGHT
BEGIN:STANDARD
TZOFFSETFROM:+1030
TZOFFSETTO:+0930
TZNAME:ACST
DTSTART:20250405T163000
END:STANDARD
BEGIN:DAYLIGHT
TZOFFSETFROM:+0930
TZOFFSETTO:+1030
TZNAME:ACDT
DTSTART:20251004T163000
END:DAYLIGHT
END:VTIMEZONE
BEGIN:VEVENT
DTSTART;TZID=Australia/Adelaide:20241102T170000
DTEND;TZID=Australia/Adelaide:20241102T230000
DTSTAMP:20260420T201145
CREATED:20241017T030526Z
LAST-MODIFIED:20241017T030956Z
UID:10020665-1730566800-1730588400@coonawarra.org
SUMMARY:Raidis Estate | Spring Shindig
DESCRIPTION:Raidis Estate’s Spring shindig is back for another year! \nCome and enjoy a beautiful spring evening in Coonawarra\, with Chris Raidis’ famous charcoal grill. Arrive hungry – the menu includes charcoal-grilled pork shaslicks and pitta\,\nGreek salad and rice\, garlic beans and tzatziki. \nAnd to drink?  Kick back with a glass of Raidis Wine or Beer + Cider\, and kick up your heels to the sound of local musicians. \nA great evening to be had by all! \n$50 Adult Ticket includes:\nEntry + Riedel wine glass- yours to keep\nGreek Charcoal grill meal \n\n\n \n\n\nA bus transfer is also available from Mount Gambier to Raidis Estate return – $30pp \nReserve your seat for the Bus HERE \n 
URL:https://coonawarra.org/event/spring-shindig-2024/
LOCATION:Raidis Estate\, Old Cemetery Road\, Penola\, SA\, 5277\, Australia
CATEGORIES:Coonawarra Event,Family Event,Food Event,Music
ATTACH;FMTTYPE=image/jpeg:https://coonawarra.org/wp-content/uploads/2018/03/Raidis-Estate-Charcoal-Grill.jpg
ORGANIZER;CN="Raidis Estate":MAILTO:events@raidis.com.au
GEO:-37.3669886;140.8433837
X-APPLE-STRUCTURED-LOCATION;VALUE=URI;X-ADDRESS=Raidis Estate Old Cemetery Road Penola SA 5277 Australia;X-APPLE-RADIUS=500;X-TITLE=Old Cemetery Road:geo:140.8433837,-37.3669886
END:VEVENT
END:VCALENDAR