BEGIN:VCALENDAR
VERSION:2.0
PRODID:-//Coonawarra Vignerons - ECPv6.15.18//NONSGML v1.0//EN
CALSCALE:GREGORIAN
METHOD:PUBLISH
X-WR-CALNAME:Coonawarra Vignerons
X-ORIGINAL-URL:https://coonawarra.org
X-WR-CALDESC:Events for Coonawarra Vignerons
REFRESH-INTERVAL;VALUE=DURATION:PT1H
X-Robots-Tag:noindex
X-PUBLISHED-TTL:PT1H
BEGIN:VTIMEZONE
TZID:Australia/Adelaide
BEGIN:STANDARD
TZOFFSETFROM:+1030
TZOFFSETTO:+0930
TZNAME:ACST
DTSTART:20200404T163000
END:STANDARD
BEGIN:DAYLIGHT
TZOFFSETFROM:+0930
TZOFFSETTO:+1030
TZNAME:ACDT
DTSTART:20201003T163000
END:DAYLIGHT
BEGIN:STANDARD
TZOFFSETFROM:+1030
TZOFFSETTO:+0930
TZNAME:ACST
DTSTART:20210403T163000
END:STANDARD
BEGIN:DAYLIGHT
TZOFFSETFROM:+0930
TZOFFSETTO:+1030
TZNAME:ACDT
DTSTART:20211002T163000
END:DAYLIGHT
BEGIN:STANDARD
TZOFFSETFROM:+1030
TZOFFSETTO:+0930
TZNAME:ACST
DTSTART:20220402T163000
END:STANDARD
BEGIN:DAYLIGHT
TZOFFSETFROM:+0930
TZOFFSETTO:+1030
TZNAME:ACDT
DTSTART:20221001T163000
END:DAYLIGHT
END:VTIMEZONE
BEGIN:VEVENT
DTSTART;TZID=Australia/Adelaide:20211030T170000
DTEND;TZID=Australia/Adelaide:20211030T230000
DTSTAMP:20260423T063909
CREATED:20210804T062511Z
LAST-MODIFIED:20230925T054124Z
UID:10002978-1635613200-1635634800@coonawarra.org
SUMMARY:Raidis Estate | Spring Shindig
DESCRIPTION:Raidis Estate’s Spring shindig is back for another year! \nCome and enjoy a beautiful spring evening in Coonawarra\, with Chris Raidis’ famous charcoal grill\, kick back with a glass of Raidis Wine or Cide Project Beer or Cider\, and kick up your heels to the sounds of the DJ Pedro. \nA great evening to be had by all! \n$40 Adult TIcket includes:\nEntry + Riedel wine glass- yours to keep\nGreek Charcoal grill meal \n$20 Under 18 Ticket includes:\nEntry + Greek Charcoal grill meal \n\n\n$12.50 Kids under 12 Ticket includes:\nEntry\, kids meal (1/2 Chargrilled pita\,1 pork shaslick\, greek rice\, cucumber\, tomato & tzadziki. \n\n\nA bus transfer is also available from Mount Gambier to Raidis Estate return – $15pp
URL:https://coonawarra.org/event/spring-shindig-2021/
LOCATION:Raidis Estate\, Old Cemetery Road\, Penola\, SA\, 5277\, Australia
CATEGORIES:Coonawarra Event,Family Event,Food Event,Music
ATTACH;FMTTYPE=image/jpeg:https://coonawarra.org/wp-content/uploads/2018/03/Raidis-Estate-Charcoal-Grill.jpg
ORGANIZER;CN="Raidis Estate":MAILTO:events@raidis.com.au
GEO:-37.3669886;140.8433837
X-APPLE-STRUCTURED-LOCATION;VALUE=URI;X-ADDRESS=Raidis Estate Old Cemetery Road Penola SA 5277 Australia;X-APPLE-RADIUS=500;X-TITLE=Old Cemetery Road:geo:140.8433837,-37.3669886
END:VEVENT
END:VCALENDAR