BEGIN:VCALENDAR
VERSION:2.0
PRODID:-//Coonawarra Vignerons - ECPv6.15.18//NONSGML v1.0//EN
CALSCALE:GREGORIAN
METHOD:PUBLISH
X-WR-CALNAME:Coonawarra Vignerons
X-ORIGINAL-URL:https://coonawarra.org
X-WR-CALDESC:Events for Coonawarra Vignerons
REFRESH-INTERVAL;VALUE=DURATION:PT1H
X-Robots-Tag:noindex
X-PUBLISHED-TTL:PT1H
BEGIN:VTIMEZONE
TZID:Australia/Adelaide
BEGIN:STANDARD
TZOFFSETFROM:+1030
TZOFFSETTO:+0930
TZNAME:ACST
DTSTART:20240406T163000
END:STANDARD
BEGIN:DAYLIGHT
TZOFFSETFROM:+0930
TZOFFSETTO:+1030
TZNAME:ACDT
DTSTART:20241005T163000
END:DAYLIGHT
BEGIN:STANDARD
TZOFFSETFROM:+1030
TZOFFSETTO:+0930
TZNAME:ACST
DTSTART:20250405T163000
END:STANDARD
BEGIN:DAYLIGHT
TZOFFSETFROM:+0930
TZOFFSETTO:+1030
TZNAME:ACDT
DTSTART:20251004T163000
END:DAYLIGHT
BEGIN:STANDARD
TZOFFSETFROM:+1030
TZOFFSETTO:+0930
TZNAME:ACST
DTSTART:20260404T163000
END:STANDARD
BEGIN:DAYLIGHT
TZOFFSETFROM:+0930
TZOFFSETTO:+1030
TZNAME:ACDT
DTSTART:20261003T163000
END:DAYLIGHT
END:VTIMEZONE
BEGIN:VEVENT
DTSTART;TZID=Australia/Adelaide:20251019T110000
DTEND;TZID=Australia/Adelaide:20251019T150000
DTSTAMP:20260421T025157
CREATED:20250501T011107Z
LAST-MODIFIED:20251014T232345Z
UID:10025667-1760871600-1760886000@coonawarra.org
SUMMARY:Ottelia | 'Spring Fling' Long Lunch
DESCRIPTION:Spring Fling is an ode to the bounty of Spring and a not-so-traditional celebration of Cabernet Sauvignon. \nStep into Ottelia for a vegetarian long lunch that will have even the biggest carnivores rethink their eating habits. Be prepared to throw out the wine pairing ‘rule book’ as Ottelia showcase a new perspective on pairing Coonawarra Cabernet and food. \nSPRING FLING MENU \nSUNDAY 19 OCTOBER | 11:00am onawards \nCost | $90 per person \nReservations Essential \n \n 
URL:https://coonawarra.org/event/ottelia-spring-fling-long-lunch/
LOCATION:Ottelia\, 5 Memorial Drive\, Coonawarra\, South Australia\, 5263\, Australia
CATEGORIES:Food Event
ATTACH;FMTTYPE=image/jpeg:https://coonawarra.org/wp-content/uploads/2025/04/Spring-Fling-2025.jpg
ORGANIZER;CN="Ottelia":MAILTO:hello@ottelia.com.au
END:VEVENT
END:VCALENDAR