BEGIN:VCALENDAR
VERSION:2.0
PRODID:-//Coonawarra Vignerons - ECPv6.15.18//NONSGML v1.0//EN
CALSCALE:GREGORIAN
METHOD:PUBLISH
X-ORIGINAL-URL:https://coonawarra.org
X-WR-CALDESC:Events for Coonawarra Vignerons
REFRESH-INTERVAL;VALUE=DURATION:PT1H
X-Robots-Tag:noindex
X-PUBLISHED-TTL:PT1H
BEGIN:VTIMEZONE
TZID:Australia/Adelaide
BEGIN:STANDARD
TZOFFSETFROM:+1030
TZOFFSETTO:+0930
TZNAME:ACST
DTSTART:20250405T163000
END:STANDARD
BEGIN:DAYLIGHT
TZOFFSETFROM:+0930
TZOFFSETTO:+1030
TZNAME:ACDT
DTSTART:20251004T163000
END:DAYLIGHT
BEGIN:STANDARD
TZOFFSETFROM:+1030
TZOFFSETTO:+0930
TZNAME:ACST
DTSTART:20260404T163000
END:STANDARD
BEGIN:DAYLIGHT
TZOFFSETFROM:+0930
TZOFFSETTO:+1030
TZNAME:ACDT
DTSTART:20261003T163000
END:DAYLIGHT
BEGIN:STANDARD
TZOFFSETFROM:+1030
TZOFFSETTO:+0930
TZNAME:ACST
DTSTART:20270403T163000
END:STANDARD
BEGIN:DAYLIGHT
TZOFFSETFROM:+0930
TZOFFSETTO:+1030
TZNAME:ACDT
DTSTART:20271002T163000
END:DAYLIGHT
END:VTIMEZONE
BEGIN:VEVENT
DTSTART;TZID=Australia/Adelaide:20260703T180000
DTEND;TZID=Australia/Adelaide:20260703T210000
DTSTAMP:20260419T224132
CREATED:20260319T231050Z
LAST-MODIFIED:20260401T021503Z
UID:10027186-1783101600-1783112400@coonawarra.org
SUMMARY:Cellar Dwellers | Constellations +Cluny at Zema Estate
DESCRIPTION:Constellations and Cluny at Zema Estate invites visitors to slow down and savour the simple pleasures of a Coonawarra winter night. \nSet among the region’s iconic terra rossa soils\, this intimate evening combines warm hospitality\, storytelling and the beauty of the night sky. Guests begin in the barrel hall with a warming bowl of soup and a glass of Cluny\, enjoying the comforting rhythm of winter in wine country. Stories of family\, land and heritage are shared\, reflecting Zema Estate’s deep connection to Coonawarra. \nLocal night sky enthusiast and photographer Ockert Le Roux then guides guests through the stars above\, sharing his knowledge of the constellations\, supported by striking astrophotography captured in the region. The experience continues outdoors among the vines\, where the clear\, unspoilt skies of Coonawarra offer a rare opportunity for stargazing. \nThis uniquely local experience celebrates the quiet beauty of winter – crisp air\, glowing skies and a glass of red in hand – offering a relaxed and memorable way to connect with place\, season and the landscape. \nThis event is part of Coonawarra Cellar Dwellers\, running throughout July. \nFRIDAY 3 JULY | 6pm – 9pm \nCost: $49 ticket (includes soup + glass of wine) – Kids free \nBookings: Bookings essential. BOOK NOW \nLocation: Zema Estate Coonawarra \nContact: friends@zema.com.au – 0887363219 \n 
URL:https://coonawarra.org/event/cellar-dwellers-zema-constellations-cluny/
LOCATION:Zema Estate\, Riddoch Highway\, Coonawarra\, SA\, 5263\, Australia
CATEGORIES:Family Event,Wine Tasting
ATTACH;FMTTYPE=image/jpeg:https://coonawarra.org/wp-content/uploads/2026/03/Constellations-Cluny-atdw-02-e1775009693435.jpg
ORGANIZER;CN="Zema Estate":MAILTO:zemaestate@zema.com.au
GEO:-37.29325;140.835804
X-APPLE-STRUCTURED-LOCATION;VALUE=URI;X-ADDRESS=Zema Estate Riddoch Highway Coonawarra SA 5263 Australia;X-APPLE-RADIUS=500;X-TITLE=Riddoch Highway:geo:140.835804,-37.29325
END:VEVENT
BEGIN:VEVENT
DTSTART;TZID=Australia/Adelaide:20260717T140000
DTEND;TZID=Australia/Adelaide:20260717T160000
DTSTAMP:20260419T224132
CREATED:20260319T225608Z
LAST-MODIFIED:20260401T021637Z
UID:10026773-1784296800-1784304000@coonawarra.org
SUMMARY:From Still to Sip: Brandy Behind the Scenes
DESCRIPTION:Join Brian “Prof” Lynn as he guides you through the art of brandy making at Majella.  \nThe first brandy distilled in Coonawarra in over 70 years\, our small-batch spirit is crafted from Majella’s award-winning wines. \nDiscover the distillation process from start to finish\, learn how brandy develops its character in barrel\, and enjoy tastings from different barrel batches alongside the finished product. Along the way\, enjoy a sneaky homemade brandy snap and\, to conclude the experience\, Prof will also create a specially curated brandy cocktail for you to savour. \nFRIDAY 17 JULY | 2 – 4PM \nCOST | $50pp \nCall (08) 8736 3055 or email admin@majellawines.com.au to secure your spot
URL:https://coonawarra.org/event/from-still-to-sip-brandy-behind-the-scenes/
LOCATION:Majella Wines\, 2131 V&a Lane\, Coonawarra\, SA\, 5263\, Australia
CATEGORIES:Coonawarra Event,Meet the Winemaker
ATTACH;FMTTYPE=image/png:https://coonawarra.org/wp-content/uploads/2026/03/998636d3-831e-48c7-9e77-2d6f77a76e44.png
ORGANIZER;CN="Majella Wines":MAILTO:admin@majellawines.com.au
GEO:-37.3230879;140.8506327
X-APPLE-STRUCTURED-LOCATION;VALUE=URI;X-ADDRESS=Majella Wines 2131 V&a Lane Coonawarra SA 5263 Australia;X-APPLE-RADIUS=500;X-TITLE=2131 V&a Lane:geo:140.8506327,-37.3230879
END:VEVENT
BEGIN:VEVENT
DTSTART;TZID=Australia/Adelaide:20260718T100000
DTEND;TZID=Australia/Adelaide:20260719T160000
DTSTAMP:20260419T224132
CREATED:20260319T232748Z
LAST-MODIFIED:20260319T233142Z
UID:10026775-1784368800-1784476800@coonawarra.org
SUMMARY:Majella | Cabernet Sauvignon: A Vintage Journey
DESCRIPTION:Discover the depth and character of Majella Cabernet Sauvignon through three award-winning vintages: 2008\, 2013 and 2018.  \nThis guided tasting showcases how time\, terroir and careful winemaking shape the evolution of Coonawarra Cabernet. Experience the subtle differences between each vintage while gaining insight into what makes these wines so highly regarded. \nSATURDAY 18 + SUNDAY 19 JULY \nTime | 10am – 4pm \nCost | $30pp \nBookings | Appreciated for groups. \nLocation | Majella Wines \nContact |  admin@majellawines or (08) 8736 3055
URL:https://coonawarra.org/event/majella-cabernet-sauvignon-a-vintage-journey/
LOCATION:Majella Wines\, 2131 V&a Lane\, Coonawarra\, SA\, 5263\, Australia
CATEGORIES:Wine Tasting
ATTACH;FMTTYPE=image/png:https://coonawarra.org/wp-content/uploads/2026/03/wine-tile.png
ORGANIZER;CN="Majella Wines":MAILTO:admin@majellawines.com.au
GEO:-37.3230879;140.8506327
X-APPLE-STRUCTURED-LOCATION;VALUE=URI;X-ADDRESS=Majella Wines 2131 V&a Lane Coonawarra SA 5263 Australia;X-APPLE-RADIUS=500;X-TITLE=2131 V&a Lane:geo:140.8506327,-37.3230879
END:VEVENT
BEGIN:VEVENT
DTSTART;TZID=Australia/Adelaide:20260718T180000
DTEND;TZID=Australia/Adelaide:20260718T220000
DTSTAMP:20260419T224132
CREATED:20260415T070825Z
LAST-MODIFIED:20260415T070825Z
UID:10027532-1784397600-1784412000@coonawarra.org
SUMMARY:Rymill Coonawarra | Sips\, Spits and Firepits
DESCRIPTION:Rymill Coonawarra are turning up the head this July with their very first sips\, spits and fire pits session. \nHead to the winery for a night ful off flavour and fun\, featuring local spit roast legends\, Roosters Rotisseries\, settle in with a glass of red wine and hearty fare\, including delicious spit roast and smoked meats. \nStay toasty warm with fire pits\, while live music provides the perfect soundtrack for a relaxed winter night in Coonawarra. \nBus transfers from Mount Gambier will be available. \n\nSaturday 18 July | 6pm- 10pm \nFor enquiries email events@rymill.com.au
URL:https://coonawarra.org/event/rymill-coonawarra-sips-spits-and-firepits/
LOCATION:Rymill Coonawarra\, 110 Clayfield Road\, Glenroy\, SA\, 5263\, Australia
CATEGORIES:Food Event
ATTACH;FMTTYPE=image/png:https://coonawarra.org/wp-content/uploads/2026/04/Rymill_Sips-spits-and-fire-pits.png
ORGANIZER;CN="Rymill Coonawarra":MAILTO:winery@rymill.com.au
GEO:-37.2477042;140.8259487
X-APPLE-STRUCTURED-LOCATION;VALUE=URI;X-ADDRESS=Rymill Coonawarra 110 Clayfield Road Glenroy SA 5263 Australia;X-APPLE-RADIUS=500;X-TITLE=110 Clayfield Road:geo:140.8259487,-37.2477042
END:VEVENT
BEGIN:VEVENT
DTSTART;TZID=Australia/Adelaide:20260718T183000
DTEND;TZID=Australia/Adelaide:20260718T223000
DTSTAMP:20260419T224132
CREATED:20260415T064402Z
LAST-MODIFIED:20260415T064402Z
UID:10027531-1784399400-1784413800@coonawarra.org
SUMMARY:COMBINED WINERIES | The Three Stooges Dinner
DESCRIPTION:For one night only\, Raidis Estate\, Patrick of Coonawarra and Redman Wines are coming together for a dinner that proves great wine is even better when shared with a few mates\, plenty of banter and a long table full of good company. \nGuests will enjoy a three-course winter feast\, thoughtfully paired with a selection of wines from each winery\, while the winemakers share the stories\, personalities\, and moments behind the bottles along the way. \nExpect bold reds\, generous pours\, plenty of laughs and the kind of lively conversation that only happens when a few Coonawarra winemakers get together.. \nThree wineries. Three personalities. One very entertaining long table. \nSaturday 18th July |  6:30pm – 10:30pm \nCost: $120 per person \nBookings: Essential \nLocation: Raidis Estate
URL:https://coonawarra.org/event/combined-wineries-the-three-stooges-dinner/
LOCATION:Raidis Estate\, Old Cemetery Road\, Penola\, SA\, 5277\, Australia
CATEGORIES:Food Event,Meet the Winemaker
ATTACH;FMTTYPE=image/avif:https://coonawarra.org/wp-content/uploads/2026/04/three-stooges-poster-v1-1773878149593-e1776235298788.avif
ORGANIZER;CN="Raidis Estate":MAILTO:events@raidis.com.au
GEO:-37.3669886;140.8433837
X-APPLE-STRUCTURED-LOCATION;VALUE=URI;X-ADDRESS=Raidis Estate Old Cemetery Road Penola SA 5277 Australia;X-APPLE-RADIUS=500;X-TITLE=Old Cemetery Road:geo:140.8433837,-37.3669886
END:VEVENT
END:VCALENDAR